BEGIN:VCALENDAR
VERSION:2.0
PRODID:-//Salzkammergut Schützenverband - ECPv6.1.3//NONSGML v1.0//EN
CALSCALE:GREGORIAN
METHOD:PUBLISH
X-WR-CALNAME:Salzkammergut Schützenverband
X-ORIGINAL-URL:http://www.salzkammerschuetzen.at
X-WR-CALDESC:Veranstaltungen für Salzkammergut Schützenverband
REFRESH-INTERVAL;VALUE=DURATION:PT1H
X-Robots-Tag:noindex
X-PUBLISHED-TTL:PT1H
BEGIN:VTIMEZONE
TZID:Europe/Berlin
BEGIN:DAYLIGHT
TZOFFSETFROM:+0100
TZOFFSETTO:+0200
TZNAME:CEST
DTSTART:20260329T010000
END:DAYLIGHT
BEGIN:STANDARD
TZOFFSETFROM:+0200
TZOFFSETTO:+0100
TZNAME:CET
DTSTART:20261025T010000
END:STANDARD
END:VTIMEZONE
BEGIN:VEVENT
DTSTART;TZID=Europe/Berlin:20260313T170000
DTEND;TZID=Europe/Berlin:20260314T170000
DTSTAMP:20260426T042212
CREATED:20251215T070633Z
LAST-MODIFIED:20251215T070633Z
UID:1640-1773421200-1773507600@www.salzkammerschuetzen.at
SUMMARY:26. Weltkultur-Naturerbe-Schießen mit dem Zimmerstutzen - „Der Kapselbüchse“ in Obertraun
DESCRIPTION:Ladschreiben: Kapselbüchse 2026
URL:http://www.salzkammerschuetzen.at/veranstaltung/26-weltkultur-naturerbe-schiessen-mit-dem-zimmerstutzen-der-kapselbuechse-in-obertraun/
LOCATION:ASKÖ Obertraun\, Obertraun 241\, Obertraun\, 4831\, Österreich
END:VEVENT
BEGIN:VEVENT
DTSTART;TZID=Europe/Berlin:20260314T130000
DTEND;TZID=Europe/Berlin:20260314T170000
DTSTAMP:20260426T042212
CREATED:20260204T070907Z
LAST-MODIFIED:20260204T070907Z
UID:1644-1773493200-1773507600@www.salzkammerschuetzen.at
SUMMARY:Ausschreibung zum 37. Jugend – Cup 2026
DESCRIPTION:Ladschreiben Jugendcup 2026 \nIn der Schießstätte des Schützenverein Edelweiß Bad Ischl \n 
URL:http://www.salzkammerschuetzen.at/veranstaltung/ausschreibung-zum-37-jugend-cup-2026/
LOCATION:SV Edelweiß Bad Ischl\, Sulzbacherstraße 38\, Bad Ischl\, 4820
END:VEVENT
END:VCALENDAR