BEGIN:VCALENDAR
VERSION:2.0
PRODID:-//Salzkammergut Schützenverband - ECPv6.1.3//NONSGML v1.0//EN
CALSCALE:GREGORIAN
METHOD:PUBLISH
X-WR-CALNAME:Salzkammergut Schützenverband
X-ORIGINAL-URL:http://www.salzkammerschuetzen.at
X-WR-CALDESC:Veranstaltungen für Salzkammergut Schützenverband
REFRESH-INTERVAL;VALUE=DURATION:PT1H
X-Robots-Tag:noindex
X-PUBLISHED-TTL:PT1H
BEGIN:VTIMEZONE
TZID:Europe/Berlin
BEGIN:DAYLIGHT
TZOFFSETFROM:+0100
TZOFFSETTO:+0200
TZNAME:CEST
DTSTART:20260329T010000
END:DAYLIGHT
BEGIN:STANDARD
TZOFFSETFROM:+0200
TZOFFSETTO:+0100
TZNAME:CET
DTSTART:20261025T010000
END:STANDARD
END:VTIMEZONE
BEGIN:VEVENT
DTSTART;TZID=Europe/Berlin:20260411T130000
DTEND;TZID=Europe/Berlin:20260411T173000
DTSTAMP:20260422T074708
CREATED:20260327T091422Z
LAST-MODIFIED:20260327T091422Z
UID:1670-1775912400-1775928600@www.salzkammerschuetzen.at
SUMMARY:Anschießen 2026 beim Priv. SV Bad Ischl
DESCRIPTION:Einladung: Anschießen 2026
URL:http://www.salzkammerschuetzen.at/veranstaltung/anschiessen-2026-beim-priv-sv-bad-ischl/
LOCATION:Priv. SV Bad Ischl\, Brandenbergweg 48a\, Bad Ischl\, 4820
END:VEVENT
END:VCALENDAR