BEGIN:VCALENDAR
VERSION:2.0
PRODID:-//Salzkammergut Schützenverband - ECPv6.1.3//NONSGML v1.0//EN
CALSCALE:GREGORIAN
METHOD:PUBLISH
X-WR-CALNAME:Salzkammergut Schützenverband
X-ORIGINAL-URL:http://www.salzkammerschuetzen.at
X-WR-CALDESC:Veranstaltungen für Salzkammergut Schützenverband
REFRESH-INTERVAL;VALUE=DURATION:PT1H
X-Robots-Tag:noindex
X-PUBLISHED-TTL:PT1H
BEGIN:VTIMEZONE
TZID:Europe/Berlin
BEGIN:DAYLIGHT
TZOFFSETFROM:+0100
TZOFFSETTO:+0200
TZNAME:CEST
DTSTART:20260329T010000
END:DAYLIGHT
BEGIN:STANDARD
TZOFFSETFROM:+0200
TZOFFSETTO:+0100
TZNAME:CET
DTSTART:20261025T010000
END:STANDARD
END:VTIMEZONE
BEGIN:VEVENT
DTSTART;TZID=Europe/Berlin:20260620T090000
DTEND;TZID=Europe/Berlin:20260620T170000
DTSTAMP:20260422T060446
CREATED:20260310T162711Z
LAST-MODIFIED:20260310T163024Z
UID:1656-1781946000-1781974800@www.salzkammerschuetzen.at
SUMMARY:Salzkammergut Achterschiessen – Priv. SV Bad Goisern
DESCRIPTION:Ausschreibung folgt!
URL:http://www.salzkammerschuetzen.at/veranstaltung/salzkammergut-achterschiessen-priv-sv-bad-goisern/
END:VEVENT
END:VCALENDAR